BEGIN:VCALENDAR
VERSION:2.0
PRODID:-//jEvents 2.0 for Joomla//EN
CALSCALE:GREGORIAN
METHOD:PUBLISH
BEGIN:VTIMEZONE
TZID:Europe/Berlin
BEGIN:STANDARD
DTSTART:20181220T133000
RDATE:20190331T030000
TZOFFSETFROM:+0200
TZOFFSETTO:+0100
TZNAME:Europe/Berlin CET
END:STANDARD
BEGIN:STANDARD
DTSTART:20191027T020000
RDATE:20200329T030000
TZOFFSETFROM:+0200
TZOFFSETTO:+0100
TZNAME:Europe/Berlin CET
END:STANDARD
BEGIN:STANDARD
DTSTART:20201025T020000
RDATE:20210328T030000
TZOFFSETFROM:+0200
TZOFFSETTO:+0100
TZNAME:Europe/Berlin CET
END:STANDARD
BEGIN:DAYLIGHT
DTSTART:20190331T030000
RDATE:20191027T020000
TZOFFSETFROM:+0100
TZOFFSETTO:+0200
TZNAME:Europe/Berlin CEST
END:DAYLIGHT
BEGIN:DAYLIGHT
DTSTART:20200329T030000
RDATE:20201025T020000
TZOFFSETFROM:+0100
TZOFFSETTO:+0200
TZNAME:Europe/Berlin CEST
END:DAYLIGHT
END:VTIMEZONE
BEGIN:VEVENT
UID:2bd1ab4ebe053ddd283166e47868f463
CATEGORIES:DEFAULT
CREATED:20181206T191122
SUMMARY:Crosslauf
DESCRIPTION:<p>N&auml;here Infos unter</p><p><a href="index.php/leichtathtletik/ausschr
 eibung">Ausschreibung</a></p>
X-ALT-DESC;FMTTYPE=text/html:<p>N&auml;here Infos unter</p><p><a href="http://tv05-wetter.de/index.php/l
 eichtathtletik/ausschreibung">Ausschreibung</a></p>
DTSTAMP:20260425T123143
DTSTART;TZID=Europe/Berlin:20191221T133000
SEQUENCE:0
TRANSP:OPAQUE
END:VEVENT
END:VCALENDAR