BEGIN:VCALENDAR
VERSION:2.0
PRODID:-//jEvents 2.0 for Joomla//EN
CALSCALE:GREGORIAN
METHOD:PUBLISH
BEGIN:VTIMEZONE
TZID:Europe/Berlin
END:VTIMEZONE
BEGIN:VEVENT
UID:968b599f7270f4523a1a6e341364632d
CATEGORIES:DEFAULT
CREATED:20220928T163301
SUMMARY:Bied-Wett Volley : TuS Kriftel
DESCRIPTION:Oberliga-Volleyball\nBiedenkopf-Wetter Volleys : TuS Kriftel\nOrt: Sporthal
 le der Wollenbergschule Wetter, Weinstr.,\n
X-ALT-DESC;FMTTYPE=text/html:<p>Oberliga-Volleyball</p><p>Biedenkopf-Wetter Volleys : TuS Kriftel</p><p>
 Ort: Sporthalle der Wollenbergschule Wetter, Weinstr.,</p>
DTSTAMP:20260419T220707
DTSTART;TZID=Europe/Berlin:20221022T193000
SEQUENCE:0
TRANSP:OPAQUE
END:VEVENT
END:VCALENDAR