BEGIN:VCALENDAR
VERSION:2.0
PRODID:-//jEvents 2.0 for Joomla//EN
CALSCALE:GREGORIAN
METHOD:PUBLISH
BEGIN:VTIMEZONE
TZID:Europe/Berlin
END:VTIMEZONE
BEGIN:VEVENT
UID:79142fbba4d365912db7778d19266551
CATEGORIES:DEFAULT
CREATED:20220928T162515
SUMMARY:Bied-Wett Volleys : TV Bommersheim
DESCRIPTION:<p>Oberliga-Volleyball</p><p>Biedenkopf-Wetter Volleys : TV Bommersheim</p>
 <p>Ort: Sporthalle der Wollenbergschule Wetter, Weinstr.,</p>
DTSTAMP:20260425T152548
DTSTART;TZID=Europe/Berlin:20221015T190000
SEQUENCE:0
TRANSP:OPAQUE
END:VEVENT
END:VCALENDAR