BEGIN:VCALENDAR
VERSION:2.0
PRODID:-//jEvents 2.0 for Joomla//EN
CALSCALE:GREGORIAN
METHOD:PUBLISH
BEGIN:VTIMEZONE
TZID:Europe/Berlin
END:VTIMEZONE
BEGIN:VEVENT
UID:4c2fb23f09d942f377d506d5ec96fa74
CATEGORIES:DEFAULT
CREATED:20220928T162354
SUMMARY:Bied-Wett Volleys : VGG Gelnhausen
DESCRIPTION:<p>Oberliga-Volleyball</p><p>Biedenkopf-Wetter Volleys : VGG Gelnhausen</p>
 <p>Ort: Sporthalle der Wollenbergschule Wetter, Weinstr.,</p>
DTSTAMP:20260419T220607
DTSTART;TZID=Europe/Berlin:20221001T190000
SEQUENCE:0
TRANSP:OPAQUE
END:VEVENT
END:VCALENDAR