BEGIN:VCALENDAR
VERSION:2.0
PRODID:-//jEvents 2.0 for Joomla//EN
CALSCALE:GREGORIAN
METHOD:PUBLISH
BEGIN:VTIMEZONE
TZID:Europe/Berlin
END:VTIMEZONE
BEGIN:VEVENT
UID:e07b681201db983aecafddb765d0378f
CATEGORIES:DEFAULT
CREATED:20220116T173722
SUMMARY:Sommer-Bahanlauf
DESCRIPTION:über 800 m, 1.000 m, 1.500 m und 5.000 m für Jugend und Senioren.\nhttp://w
 ww.tv05-wetter.de/index.php/leichtathtletik/ausschreibung (http://www.tv05-
 wetter.de/index.php/leichtathtletik/ausschreibung)\n
X-ALT-DESC;FMTTYPE=text/html:<p>über 800 m, 1.000 m, 1.500 m und 5.000 m für Jugend und Senioren.</p><p>
 <a href="http://www.tv05-wetter.de/index.php/leichtathtletik/ausschreibung"
 >http://www.tv05-wetter.de/index.php/leichtathtletik/ausschreibung</a></p>
DTSTAMP:20260419T220612
DTSTART;TZID=Europe/Berlin:20220622T190000
SEQUENCE:0
TRANSP:OPAQUE
END:VEVENT
END:VCALENDAR